BEGIN:VCALENDAR
VERSION:2.0
PRODID:-//Gideon Taylor - ECPv6.15.20//NONSGML v1.0//EN
CALSCALE:GREGORIAN
METHOD:PUBLISH
X-ORIGINAL-URL:https://gideontaylor.fluid22.dev
X-WR-CALDESC:Events for Gideon Taylor
REFRESH-INTERVAL;VALUE=DURATION:PT1H
X-Robots-Tag:noindex
X-PUBLISHED-TTL:PT1H
BEGIN:VTIMEZONE
TZID:America/Denver
BEGIN:DAYLIGHT
TZOFFSETFROM:-0700
TZOFFSETTO:-0600
TZNAME:MDT
DTSTART:20230312T090000
END:DAYLIGHT
BEGIN:STANDARD
TZOFFSETFROM:-0600
TZOFFSETTO:-0700
TZNAME:MST
DTSTART:20231105T080000
END:STANDARD
BEGIN:DAYLIGHT
TZOFFSETFROM:-0700
TZOFFSETTO:-0600
TZNAME:MDT
DTSTART:20240310T090000
END:DAYLIGHT
BEGIN:STANDARD
TZOFFSETFROM:-0600
TZOFFSETTO:-0700
TZNAME:MST
DTSTART:20241103T080000
END:STANDARD
BEGIN:DAYLIGHT
TZOFFSETFROM:-0700
TZOFFSETTO:-0600
TZNAME:MDT
DTSTART:20250309T090000
END:DAYLIGHT
BEGIN:STANDARD
TZOFFSETFROM:-0600
TZOFFSETTO:-0700
TZNAME:MST
DTSTART:20251102T080000
END:STANDARD
END:VTIMEZONE
BEGIN:VEVENT
DTSTART;VALUE=DATE:20240302
DTEND;VALUE=DATE:20240307
DTSTAMP:20260425T091408
CREATED:20240118T011839Z
LAST-MODIFIED:20250313T130559Z
UID:2402-1709398800-1709744399@gideontaylor.fluid22.dev
SUMMARY:ALLIANCE 2024
DESCRIPTION:  \nJoin Gideon Taylor in Phoenix March 3-6 for HEUG ALLIANCE 2024! We look forward to sharing exciting new solutions in our booth (#319) and during multiple sessions. Check out our schedule below. We look forward to connecting with the wonderful HEUG community soon. \n\n\n\nTime\nAlliance Sessions\nSession ID#\nRoom #\nPresenter\nCo-presenter #1\nCo-presenter #2\nCo-presenter #3\nSession Link\n\n\n\n\n\n\n\n\n\n\n\n\n\n\nMonday\, March 4th\n\n\n\n\n\n\n\n\n\n10:00-11:00AM\nAI is suddenly everywhere! What is the fuss and where can I get value?\n11018\nTBA\nAndrew Bediz\nPaul Taylor\n\n\nhttps://www.alliance-conference.com/p/cm/ld/fid=4846&eaid=21937\n\n\n2:30-2:45PM\nGenerative AI or Traditional AI? The answer is “yes!”\n11074\nTBA\nAndrew Bediz\n\n\n\nhttps://www.alliance-conference.com/p/cm/ld/fid=4846&eaid=22033\n\n\n\n\n\n\n\n\n\n\n\n\n\n\nTuesday\, March 5th\n\n\n\n\n\n\n\n\n\n8:30-9:30AM\nMastering Gideon Taylor eForms: Elevating Efficiency Through Automation\n10587\nTBA\nAndrea Lloyd\nChris Lopac\nDeidre Muir\nSara Narveson\nhttps://www.alliance-conference.com/p/cm/ld/fid=4846&eaid=21761\n\n\n10:00-11:00AM\nMaking a Molehill out of a Mountain: Automating OUHSC’s Grants Pre-Award Process\n10918\nTBA\nLynette Chaudoin\n\n\n\nhttps://www.alliance-conference.com/p/cm/ld/fid=4846&eaid=21765\n\n\n2:00-3:00PM\nReimagining Tennessee’s PeopleSoft HCM for a Smarter\, Easier\, Better User Experience\n11017\nTBA\nAndrew Bediz\nLynette Chaudoin\n\n\nhttps://www.alliance-conference.com/p/cm/ld/fid=4846&eaid=21936\n\n\n2:30-3:30PM\nStreamlining Security Approvals with GT eForms: Improving Efficiency and Accuracy\n10906\nTBA\nKim Alling\nDavid Marty\nHeather Hollister\n\nhttps://www.alliance-conference.com/p/cm/ld/fid=4846&eaid=21811\n\n\n\n\n\n\n\n\n\n\n\n\n\n\n\n\n\n\n\n\n\n\n\n\n\nWednesday\, March 6th\n\n\n\n\n\n\n\n\n\n8:30-9:30AM\nFrom Paper to Pixels: Transforming the Student Journey in the Digital Age with GT eForms\n10605\nTBA\nHannah Liu\nAlexander Lee\n\n\nhttps://www.alliance-conference.com/p/cm/ld/fid=4846&eaid=21824\n\n\n10:00-11:00AM\nUnleashing the Power of Gideon Taylor eForms Advanced Topics\n10588\nTBA\nAndrea Lloyd\n\n\n\nhttps://www.alliance-conference.com/p/cm/ld/fid=4846&eaid=21843\n\n\n11:30-12:30PM\nOur New Toy – What Have We Done with Gideon Taylor eForms?\n10750\nTBA\nAnna Ting\nScott Antin\n\n\nhttps://www.alliance-conference.com/p/cm/ld/fid=4846&eaid=21862
URL:https://gideontaylor.fluid22.dev/event/alliance-2024/
LOCATION:TX
ATTACH;FMTTYPE=image/png:https://gideontaylor.fluid22.dev/wp-content/uploads/2024/03/Sponsor-Banner.png
END:VEVENT
END:VCALENDAR