BEGIN:VCALENDAR
VERSION:2.0
PRODID:-//Gideon Taylor - ECPv6.15.20//NONSGML v1.0//EN
CALSCALE:GREGORIAN
METHOD:PUBLISH
X-WR-CALNAME:Gideon Taylor
X-ORIGINAL-URL:https://gideontaylor.fluid22.dev
X-WR-CALDESC:Events for Gideon Taylor
REFRESH-INTERVAL;VALUE=DURATION:PT1H
X-Robots-Tag:noindex
X-PUBLISHED-TTL:PT1H
BEGIN:VTIMEZONE
TZID:America/Denver
BEGIN:DAYLIGHT
TZOFFSETFROM:-0700
TZOFFSETTO:-0600
TZNAME:MDT
DTSTART:20240310T090000
END:DAYLIGHT
BEGIN:STANDARD
TZOFFSETFROM:-0600
TZOFFSETTO:-0700
TZNAME:MST
DTSTART:20241103T080000
END:STANDARD
BEGIN:DAYLIGHT
TZOFFSETFROM:-0700
TZOFFSETTO:-0600
TZNAME:MDT
DTSTART:20250309T090000
END:DAYLIGHT
BEGIN:STANDARD
TZOFFSETFROM:-0600
TZOFFSETTO:-0700
TZNAME:MST
DTSTART:20251102T080000
END:STANDARD
BEGIN:DAYLIGHT
TZOFFSETFROM:-0700
TZOFFSETTO:-0600
TZNAME:MDT
DTSTART:20260308T090000
END:DAYLIGHT
BEGIN:STANDARD
TZOFFSETFROM:-0600
TZOFFSETTO:-0700
TZNAME:MST
DTSTART:20261101T080000
END:STANDARD
END:VTIMEZONE
BEGIN:VEVENT
DTSTART;TZID=America/Denver:20250320T110000
DTEND;TZID=America/Denver:20250320T120000
DTSTAMP:20260424T150422
CREATED:20241218T060101Z
LAST-MODIFIED:20250620T154208Z
UID:11947-1742468400-1742472000@gideontaylor.fluid22.dev
SUMMARY:Alliance '25: GT eForms debuts its eForms Assistant\, Configurable Component Interface Tool and Class Assistant for Students
DESCRIPTION:Did you miss our top innovations shown at Alliance this year? Join us for our March Lunch and Learn where we’ll give you a fun recap of the biggest moments from Alliance. We’ll be unveiling some game-changing features\, including: \n\neForms Assistant\nConfigurable Component Interface Tool\nClass Assistant for Students\n\nPlus\, get an exclusive sneak peek at the GT eForms for Cloud\, designed to make your future smoother and more powerful than ever! It’s going to be an action-packed session with tons of cool updates you won’t want to miss! \nWebinar is 12:00 PM to 1:00 PM Central Time.
URL:https://gideontaylor.fluid22.dev/event/gt-lunch-learn-top-innovations-at-alliance-25/
LOCATION:Webinar
CATEGORIES:Lunch & Learn
ATTACH;FMTTYPE=image/png:https://gideontaylor.fluid22.dev/wp-content/uploads/2024/12/gt_lunch_and_learn_logo_25-e1750286230571.png
ORGANIZER;CN="Gideon Taylor":MAILTO:info@gideontaylor.fluid22.dev
END:VEVENT
END:VCALENDAR