BEGIN:VCALENDAR
VERSION:2.0
PRODID:-//Gideon Taylor - ECPv6.15.20//NONSGML v1.0//EN
CALSCALE:GREGORIAN
METHOD:PUBLISH
X-ORIGINAL-URL:https://gideontaylor.fluid22.dev
X-WR-CALDESC:Events for Gideon Taylor
REFRESH-INTERVAL;VALUE=DURATION:PT1H
X-Robots-Tag:noindex
X-PUBLISHED-TTL:PT1H
BEGIN:VTIMEZONE
TZID:America/Denver
BEGIN:DAYLIGHT
TZOFFSETFROM:-0700
TZOFFSETTO:-0600
TZNAME:MDT
DTSTART:20240310T090000
END:DAYLIGHT
BEGIN:STANDARD
TZOFFSETFROM:-0600
TZOFFSETTO:-0700
TZNAME:MST
DTSTART:20241103T080000
END:STANDARD
BEGIN:DAYLIGHT
TZOFFSETFROM:-0700
TZOFFSETTO:-0600
TZNAME:MDT
DTSTART:20250309T090000
END:DAYLIGHT
BEGIN:STANDARD
TZOFFSETFROM:-0600
TZOFFSETTO:-0700
TZNAME:MST
DTSTART:20251102T080000
END:STANDARD
BEGIN:DAYLIGHT
TZOFFSETFROM:-0700
TZOFFSETTO:-0600
TZNAME:MDT
DTSTART:20260308T090000
END:DAYLIGHT
BEGIN:STANDARD
TZOFFSETFROM:-0600
TZOFFSETTO:-0700
TZNAME:MST
DTSTART:20261101T080000
END:STANDARD
END:VTIMEZONE
BEGIN:VEVENT
DTSTART;TZID=America/Denver:20250716T090000
DTEND;TZID=America/Denver:20250716T150000
DTSTAMP:20260424T052214
CREATED:20250709T133912Z
LAST-MODIFIED:20260417T210411Z
UID:15402-1752656400-1752678000@gideontaylor.fluid22.dev
SUMMARY:HEUG Summer Series - GT eForms Day
DESCRIPTION:Get ready for an incredible half-day event focused on driving real transformation through Gideon Taylor’s powerful PeopleSoft automation solutions. This is your chance to learn directly from GT experts and hear firsthand how other institutions are streamlining processes\, improving user experiences\, and seeing real ROI. \n🎯 What to Expect:✔ Real-world success stories from HEUG member institutions✔ Strategic insights for modernizing business processes✔ Live Q&A and interactive discussions \nWhether you’re just starting to explore automation or already working with GT\, this event will equip you with new ideas\, proven strategies\, and inspiration to take your organization further. \nRegistration is required – and the value is undeniable!
URL:https://gideontaylor.fluid22.dev/event/heug-summer-series-gt-eforms-day/
LOCATION:TX
ATTACH;FMTTYPE=image/webp:https://gideontaylor.fluid22.dev/wp-content/uploads/2025/03/spearmc-heug-alliance.webp
END:VEVENT
END:VCALENDAR