BEGIN:VCALENDAR
VERSION:2.0
PRODID:-//Gideon Taylor - ECPv6.15.20//NONSGML v1.0//EN
CALSCALE:GREGORIAN
METHOD:PUBLISH
X-WR-CALNAME:Gideon Taylor
X-ORIGINAL-URL:https://gideontaylor.fluid22.dev
X-WR-CALDESC:Events for Gideon Taylor
REFRESH-INTERVAL;VALUE=DURATION:PT1H
X-Robots-Tag:noindex
X-PUBLISHED-TTL:PT1H
BEGIN:VTIMEZONE
TZID:America/Denver
BEGIN:DAYLIGHT
TZOFFSETFROM:-0700
TZOFFSETTO:-0600
TZNAME:MDT
DTSTART:20240310T090000
END:DAYLIGHT
BEGIN:STANDARD
TZOFFSETFROM:-0600
TZOFFSETTO:-0700
TZNAME:MST
DTSTART:20241103T080000
END:STANDARD
BEGIN:DAYLIGHT
TZOFFSETFROM:-0700
TZOFFSETTO:-0600
TZNAME:MDT
DTSTART:20250309T090000
END:DAYLIGHT
BEGIN:STANDARD
TZOFFSETFROM:-0600
TZOFFSETTO:-0700
TZNAME:MST
DTSTART:20251102T080000
END:STANDARD
BEGIN:DAYLIGHT
TZOFFSETFROM:-0700
TZOFFSETTO:-0600
TZNAME:MDT
DTSTART:20260308T090000
END:DAYLIGHT
BEGIN:STANDARD
TZOFFSETFROM:-0600
TZOFFSETTO:-0700
TZNAME:MST
DTSTART:20261101T080000
END:STANDARD
BEGIN:DAYLIGHT
TZOFFSETFROM:-0700
TZOFFSETTO:-0600
TZNAME:MDT
DTSTART:20270314T090000
END:DAYLIGHT
BEGIN:STANDARD
TZOFFSETFROM:-0600
TZOFFSETTO:-0700
TZNAME:MST
DTSTART:20271107T080000
END:STANDARD
END:VTIMEZONE
BEGIN:VEVENT
DTSTART;TZID=America/Denver:20260308T060000
DTEND;TZID=America/Denver:20260309T150000
DTSTAMP:20260421T173053
CREATED:20250917T215411Z
LAST-MODIFIED:20260213T205642Z
UID:16168-1772949600-1773068400@gideontaylor.fluid22.dev
SUMMARY:GT Ignite 2026: Transformation Begins Today
DESCRIPTION:What is GT IGNITE?\nGideon Taylor (GT) is excited to announce its inaugural user community event: GT Ignite 2026: Transformation Begins Today\, presented in partnership with the HEUG at the Alliance Conference. GT Ignite is an event created to meet the growing needs of our users and broader ecosystem. The theme Transformation Begins Today highlights how leaders in our community are driving real value from their enterprise systems right now\, while preparing for the future shift to new platforms. Whether re-platforming is on your roadmap this year or several years down the line\, GT Ignite 2026 will show you how to capture maximum value both today and tomorrow. \nGideon Taylor is a trusted Oracle and PeopleSoft partner that helps organizations across industries transform complex enterprise systems into intuitive\, human-centered experiences. This multi-day event brings together a diverse community of users\, including: \n\nHigher education\nHealthcare\nPublic sector\nCommercial users\n\nDiverse educational sessions will span success stories\, industry best practices\, visionary thought leadership\, and hands-on technical deep dives\, as well as exclusive GT solution roadmaps\, product updates\, and a forward-looking vision for where GT and the industry are headed in 2026 and beyond. Early bird pricing runs until Feb. 11\, 2026. \nRegister Now!\nView Sessions\nNote: As part of the registration process\, you’ll be prompted to either sign into HEUG\, or setup a free HUEG subscriber account. Don’t worry\, the process is fast and easy! \nSign in or create an account to register. \n \n  \nFor new members\, select “Create a New HEUG Profile” from the dropdown menu\, and select “For GT Ignite 2026” – see screenshot below: \n \n		\n				\n					\n				\n				\n					Q & A About Alliance				\n				\n				\n				\n							\n						\n				\n					 What problem were you most excited to help institutions solve by sponsoring Alliance? \n							\n			\n			\n		\n\n						\n				\n				\n				\n									Our goal is to help users add value to their PeopleSoft environments TODAY\, while being a partner as they prepare for a future platform shift. As Alliance attendees seek to maximize the value out of their enterprise systems\, Gideon Taylor is excited to share industry best practices about AI and UX\, as well as training about leveraging our flagship process automation solution\, GT eForms.  As a part of Alliance\, we’re also thrilled to launch GT Ignite: Transformation Begins Today\, our first user conference. As a HEUG member and Alliance attendee\, we hope you’ll join us at GT Ignite in Orlando on March 8th to kick off the Alliance Conference! 								\n				\n				\n					\n						\n				\n					 What conversations or challenges are you hoping to have with industry leaders during the event? \n							\n			\n			\n		\n\n						\n				\n				\n				\n									We want to talk with leaders who are eager to modernize the user experience\, simplify operations\, and unlock more value from the systems they already have. The best conversations happen when institutions share what’s working and inspire each other to take the next step. 								\n				\n				\n					\n						\n				\n					 How does your organization support long-term success beyond a single implementation or contract? \n							\n			\n			\n		\n\n						\n				\n				\n				\n									We partner with institutions for the long haul\, helping them continuously improve\, innovate\, and adapt as their needs evolve. Our focus is on building strong teams\, sharing best practices\, and supporting a culture of ongoing transformation. From getting more out of PeopleSoft today\, to supporting that future platform shift\, Gideon Taylor is here to grow with our customers. 								\n				\n				\n					\n						\n				\n					 What trends or shifts in enterprise systems are influencing how your team is investing or innovating right now? \n							\n			\n			\n		\n\n						\n				\n					\n				\n				\n									Organizations are under more pressure than ever to deliver better digital experiences with limited resources. That’s driving a shift toward practical\, incremental innovation that delivers fast wins and measurable impact without waiting years for change. We’re here to help teams add value and improve systems\, with results you’ll see right away! 								\n				\n					\n				\n					\n						\n				\n					 Why was Alliance the right place for your team to show up this year? \n							\n			\n			\n		\n\n						\n				\n					\n				\n				\n									Alliance is where the PeopleSoft and Oracle community comes together to learn\, share\, and innovate. Hosting our user event GT Ignite as a part of Alliance is our way of supporting that momentum and celebrating the innovative spirit of this community. Transformation begins today\, and there’s no better place to start than with HEUG and at Alliance 2026.
URL:https://gideontaylor.fluid22.dev/event/gt-ignite-2026-transformation-begins-today/
LOCATION:TX
CATEGORIES:Conference
ATTACH;FMTTYPE=image/png:https://gideontaylor.fluid22.dev/wp-content/uploads/2025/09/GT-Ignite-2026-logo-smaller-1.png
ORGANIZER;CN="Gideon Taylor":MAILTO:info@gideontaylor.fluid22.dev
END:VEVENT
BEGIN:VEVENT
DTSTART;VALUE=DATE:20251029
DTEND;VALUE=DATE:20251101
DTSTAMP:20260421T173054
CREATED:20250328T180942Z
LAST-MODIFIED:20251016T153459Z
UID:13164-1761699600-1761872399@gideontaylor.fluid22.dev
SUMMARY:HEUG Europe - Manchester
DESCRIPTION:HEUG EUROPE 2025\nOctober 29-30\, 2025 | Manchester\, UK \nGideon Taylor will be at HEUG Europe 2025 showcasing specialized solutions for European higher education institutions. \nWhy Connect With Us: \n\nExplore tailored technology solutions for your institution\nLearn implementation strategies for European frameworks\nSee our latest campus IT innovations in action\n\nPerfect for IT Directors\, System Managers\, and Technology Teams looking to enhance student experience and administrative efficiency. \nJoin us for\nGT Session #1\nGT Session #2\n  \nHUEG Europe’s Agenda\nREGISTER NOW
URL:https://gideontaylor.fluid22.dev/event/heug-europe-manchester/
LOCATION:Hyatt Regency Manchester\, 55 Booth St W\, Manchester\, M15 6PQ\, United Kingdom
CATEGORIES:Conference,HEUG Regional
ATTACH;FMTTYPE=image/webp:https://gideontaylor.fluid22.dev/wp-content/uploads/2025/03/spearmc-heug-alliance.webp
END:VEVENT
BEGIN:VEVENT
DTSTART;TZID=America/Denver:20251027T090000
DTEND;TZID=America/Denver:20251030T180000
DTSTAMP:20260421T173054
CREATED:20250918T160238Z
LAST-MODIFIED:20251023T145427Z
UID:16185-1761555600-1761847200@gideontaylor.fluid22.dev
SUMMARY:PeopleSoff Reconnect: Dive Deep - Virtual
DESCRIPTION:Join us online for RECONNECT Dive Deep\nPractical\, hands-on learning for the PeopleSoft community.\nPeopleSoft RECONNECT Dive Deep is the premier virtual event for the global PeopleSoft community—bringing together customers\, experts\, and Oracle strategists for four days of focused learning\, collaboration\, and innovation. Designed for users who want to go beyond the basics\, the conference offers 140+ sessions packed with practical insights\, product updates\, and proven strategies to help organizations get more from their PeopleSoft investment. Whether you’re in HR\, Finance\, IT\, or Higher Ed\, this is your chance to dive deep into what’s new\, what’s coming\, and how to lead with confidence in a constantly evolving tech landscape. \nLearn more and attend at RECONNECT \nView All GT related sessions and access the program guide. \nAll digital\, all PeopleSoft – join us online!
URL:https://gideontaylor.fluid22.dev/event/peoplesoff-reconnect-dive-deep-virtual/
LOCATION:Online\, United States
CATEGORIES:Conference,Quest Oracle Community
ATTACH;FMTTYPE=image/jpeg:https://gideontaylor.fluid22.dev/wp-content/uploads/2025/09/reconnect-deep-dive.jpg
END:VEVENT
BEGIN:VEVENT
DTSTART;VALUE=DATE:20251027
DTEND;VALUE=DATE:20251101
DTSTAMP:20260421T173054
CREATED:20250328T180956Z
LAST-MODIFIED:20250328T181442Z
UID:13144-1761526800-1761872399@gideontaylor.fluid22.dev
SUMMARY:EDUCAUSE Annual Conference
DESCRIPTION:EDUCAUSE ANNUAL CONFERENCE\nOctober 27–30\, 2025 | Nashville\, Tennessee \nGideon Taylor will be at EDUCAUSE Annual Conference showcasing insights and solutions specifically designed for the education sector. \nWhy Connect With Us: \n\nExplore tailored technology solutions for higher education institutions\nDiscuss implementation strategies for your specific campus needs\nLearn how our expertise can help solve your institution’s challenges\n\nPerfect for Higher Education IT Leaders\, Academic Technology Professionals\, Administrative Systems Managers\, and Education Technology Providers looking to enhance campus technology and operational efficiency.
URL:https://gideontaylor.fluid22.dev/event/educause-annual-conference/
LOCATION:Nashville\, TN
CATEGORIES:Conference
ATTACH;FMTTYPE=image/png:https://gideontaylor.fluid22.dev/wp-content/uploads/2025/03/E25-Email-Hero-2.png
END:VEVENT
BEGIN:VEVENT
DTSTART;VALUE=DATE:20251013
DTEND;VALUE=DATE:20251018
DTSTAMP:20260421T173054
CREATED:20250328T181015Z
LAST-MODIFIED:20250918T152753Z
UID:13159-1760317200-1760662799@gideontaylor.fluid22.dev
SUMMARY:AI World 2025
DESCRIPTION:AI World 2025\nOctober 13-16\, 2025 | Las Vegas\, Nevada \nGideon Taylor will be at AI World 2025 showcasing innovative solutions within the Oracle ecosystem and addressing implementation challenges. \nWhy Connect With Us: \n\nDiscover practical approaches to your Oracle implementation challenges\nExplore how our solutions enhance your Oracle experience\nBuild valuable relationships with our experienced team\n\nPerfect for Business Leaders\, IT Professionals\, Developers\, and Partners looking to maximize their Oracle investments and drive digital transformation.
URL:https://gideontaylor.fluid22.dev/event/cloudworld-2025/
LOCATION:Las Vegas
CATEGORIES:Conference,Quest Oracle Community
ATTACH;FMTTYPE=image/png:https://gideontaylor.fluid22.dev/wp-content/uploads/2025/03/oracle-AI-World-logo.png
END:VEVENT
BEGIN:VEVENT
DTSTART;VALUE=DATE:20250309
DTEND;VALUE=DATE:20250314
DTSTAMP:20260421T173054
CREATED:20250210T182042Z
LAST-MODIFIED:20250225T145449Z
UID:12442-1741482000-1741827599@gideontaylor.fluid22.dev
SUMMARY:Alliance 2025 Conference
DESCRIPTION:Alliance 2025 Conference Sessions\nA comprehensive list of sessions scheduled for the Alliance 2025 conference\, featuring workshops\, presentations\, and interactive sessions across various technical and functional topics. \n\nGet Your Hands Dirty: Level Up Your GT eForms Skills*\n*Registration Required \nDate:\nMarch 9\, 2025\nTime:\n1:00 PM – 4:00 PM\nSession ID:\n5138\nPresenters:\nLynette Chaudoin – Gideon Taylor\, Jay Jorgensen – Gideon Taylor\nDetails:\nAn interactive\, hands-on session focused on advanced GT eForms features including configurable CIs\, AI digital assistant integration\, batch processing\, and PeopleSoft Insights visualization tools. Suitable for both functional and technical users looking to enhance their form development skills.\n\n\nStreamlining Student Leave and Return Processes: Enhancing Record Management with GT E-Form and Kibana Dashboard\nDate:\nMarch 10\, 2025\nTime:\n9:45 AM – 10:45 AM\nSession ID:\n4458\nPresenters:\nSuat Oneren – University of Nottingham\, Alex MacKenzie – University of Nottingham\nDetails:\nA demonstration of a new GT eForm and Kibana Dashboard solution that streamlines student leave of absence and return processes. The presentation showcases how these tools improve record management efficiency and accuracy.\n\n\nHow GT eForms Augmented Routing Accommodates Twists and Turns of an Approval Path: Wait…You Can Do That?\nDate:\nMarch 10\, 2025\nTime:\n1:30 PM – 2:30 PM\nSession ID:\n4655\nPresenters:\nHannah Liu – Concordia University\nDetails:\nA showcase of Concordia University’s implementation of GT eForms augmented routing\, demonstrating how to handle complex approval paths that vary by faculty while sharing the same form. The presentation covers workflow setup\, button customization\, and security role configuration.\n\n\nOur First Year with GT eForms and Kibana\nDate:\nMarch 11\, 2025\nTime:\n9:45 AM – 10:45 AM\nSession ID:\n4850\nPresenters:\nLiz Coxon – University of Nottingham\, Paul Ellis – University of Nottingham\nDetails:\nA retrospective look at University of Nottingham’s first year implementing GT eForms integrated with Kibana dashboards. The presentation covers successful form implementations\, dashboard integration strategies\, and valuable lessons learned during the deployment process.\n\n\nDynamic Finance access and role assignment based on HR job position\nDate:\nMarch 11\, 2025\nTime:\n11:00 AM – 12:00 PM\nSession ID:\n4543\nPresenters:\nJoanne Chou – McMaster University\, Shirley Marshall – McMaster University\nDetails:\nMcMaster University presents their transition from user-based to position-based security management for Finance access\, leveraging GT eForms for streamlined application processes. The session covers implementation strategies\, HR partnerships\, and benefits including reduced risk and improved efficiency.\n\n\nBack to YOUR Future: Time Travel Reveals how AI\, SaaS\, and Automation Work Out for Your Organization\nDate:\nMarch 11\, 2025\nTime:\n1:30 PM – 2:30 PM\nSession ID:\n4905\nPresenters:\nPaul Taylor – Gideon Taylor\, Scott Antin – Gideon Taylor\, Andrew Bediz – Gideon Taylor\nDetails:\nAn engaging session using a Back to the Future theme to explore enterprise software challenges in 2029\, focusing on AI implementation\, SaaS migration\, and process automation. The presenters offer insights and solutions to help organizations avoid common pitfalls and optimize their digital transformation journey.\n\n\nBirds of a Feather: GT eForms\nDate:\nMarch 11\, 2025\nTime:\n3:30 PM – 4:30 PM\nSession ID:\n4489\nPresenters:\nAndrea Lloyd – University of California\, Berkeley\, Chris Lopac – University of Wisconsin\, Madison\, Deidre Muir – North Dakota University System\, Sara Narveson – North Dakota University System\nDetails:\nIntroduction to the new GT eForms Advisory Group\, covering the group charter\, community involvement opportunities\, and open roles. The session includes an interactive discussion on best practices\, project strategies\, and new functionalities to enhance GT eForms implementation.\n\n\nMaking Dollars and Sense with Finance eForms at Western University\nDate:\nMarch 12\, 2025\nTime:\n9:00 AM – 10:00 AM\nSession ID:\n4754\nPresenters:\nJessica Claeys – Western University\, Ab Birch – Western University\nDetails:\nWestern University showcases their successful implementation of GT eForms for automating finance processes\, including payment requisitions\, travel expenses\, and PCard applications. Learn how they achieved process simplification\, reduced manual work\, and improved auditability without requiring developer resources.\n\n\nState of AI – Spring 2025 Update\nDate:\nMarch 12\, 2025\nTime:\n10:15 AM – 11:15 AM\nSession ID:\n4939\nPresenters:\nAndrew Bediz – Gideon Taylor\nDetails:\nA comprehensive review of enterprise AI chatbots and their implementation in PeopleSoft environments\, featuring live demonstrations and practical insights. The session covers digital assistant implementation strategies\, lessons learned\, and integration examples with multiple systems.\n\n\n4500 – Choose your own adventure: How eForms transformed security access requests – revisited\nDate:\nMarch 12\, 2025\nTime:\n10:15 AM – 11:15 AM\nSession ID:\n4500\nPresenters:\nAlexander Lee – Concordia University\nDetails:\nA case study of Concordia University’s successful implementation of GT eForms to streamline security access requests for over 1800 administrative users. The presentation covers the transition from multiple PDF forms to a single eForm solution\, including the upgrade to GT’s Helium Performance interface for enhanced user experience.\n\n\nApproval Workflows Unlocked: A Coder’s Guide to AWE\nDate:\nMarch 12\, 2025\nTime:\n12:30 PM – 1:30 PM\nSession ID:\n4991\nPresenters:\nJay Jorgensen – Gideon Taylor\nDetails:\nA technical deep dive into PeopleSoft’s Approval Workflow Engine (AWE)\, covering design\, configuration\, and deployment strategies. The session provides hands-on guidance for integrating AWE with business processes\, managing notifications\, and customizing approval workflows.
URL:https://gideontaylor.fluid22.dev/event/alliance-conference/
LOCATION:New Orleans Ernest N. Morial Convention Center\, 900 Convention Center Blvd\, New Orleans\, 70130\, United States
CATEGORIES:Conference
ATTACH;FMTTYPE=image/png:https://gideontaylor.fluid22.dev/wp-content/uploads/2025/02/alliance_conference_2025.png
END:VEVENT
BEGIN:VEVENT
DTSTART;VALUE=DATE:20250303
DTEND;VALUE=DATE:20250308
DTSTAMP:20260421T173054
CREATED:20250225T145539Z
LAST-MODIFIED:20250225T215623Z
UID:12717-1740963600-1741309199@gideontaylor.fluid22.dev
SUMMARY:HIMSS Global Health Conference & Exhibition
DESCRIPTION:Gideon Taylor is thrilled to showcase our healthcare transformation solutions at the 2025 HIMSS Global Health Conference in Las Vegas! Join us to discover how leading institutions like St. Joseph’s Health Care have revolutionized their operations with our intelligent process automation\, reducing paperwork by 80% and decreasing turnaround times by over 35%. \nExperience firsthand how our GT eForms Suite and Ida AI assistant are transforming healthcare workflows\, eliminating paper-based processes\, and creating intuitive digital experiences that medical professionals actually enjoy using. We’re excited to demonstrate how our decades of healthcare expertise can help your organization break free from legacy system friction and transform complex healthcare processes into human-centered digital experiences that improve staff efficiency and patient care. \nLearn more about Gideon Taylor and Healthcare. \n\n\n\nLearn More!
URL:https://gideontaylor.fluid22.dev/event/himss-global-health-conference-exhibition/
LOCATION:Las Vegas
CATEGORIES:Conference
ATTACH;FMTTYPE=image/jpeg:https://gideontaylor.fluid22.dev/wp-content/uploads/2025/02/himss-las-vegas_event-promo.jpg
END:VEVENT
END:VCALENDAR