BEGIN:VCALENDAR
VERSION:2.0
PRODID:-//Gideon Taylor - ECPv6.15.20//NONSGML v1.0//EN
CALSCALE:GREGORIAN
METHOD:PUBLISH
X-ORIGINAL-URL:https://gideontaylor.fluid22.dev
X-WR-CALDESC:Events for Gideon Taylor
REFRESH-INTERVAL;VALUE=DURATION:PT1H
X-Robots-Tag:noindex
X-PUBLISHED-TTL:PT1H
BEGIN:VTIMEZONE
TZID:America/Denver
BEGIN:DAYLIGHT
TZOFFSETFROM:-0700
TZOFFSETTO:-0600
TZNAME:MDT
DTSTART:20250309T090000
END:DAYLIGHT
BEGIN:STANDARD
TZOFFSETFROM:-0600
TZOFFSETTO:-0700
TZNAME:MST
DTSTART:20251102T080000
END:STANDARD
BEGIN:DAYLIGHT
TZOFFSETFROM:-0700
TZOFFSETTO:-0600
TZNAME:MDT
DTSTART:20260308T090000
END:DAYLIGHT
BEGIN:STANDARD
TZOFFSETFROM:-0600
TZOFFSETTO:-0700
TZNAME:MST
DTSTART:20261101T080000
END:STANDARD
BEGIN:DAYLIGHT
TZOFFSETFROM:-0700
TZOFFSETTO:-0600
TZNAME:MDT
DTSTART:20270314T090000
END:DAYLIGHT
BEGIN:STANDARD
TZOFFSETFROM:-0600
TZOFFSETTO:-0700
TZNAME:MST
DTSTART:20271107T080000
END:STANDARD
END:VTIMEZONE
BEGIN:VEVENT
DTSTART;TZID=America/Denver:20260416T100000
DTEND;TZID=America/Denver:20260416T110000
DTSTAMP:20260421T174935
CREATED:20260115T211002Z
LAST-MODIFIED:20260417T210214Z
UID:17449-1776333600-1776337200@gideontaylor.fluid22.dev
SUMMARY:From Manual to Modern—Extending PeopleSoft Financials Automation with GT eForms
DESCRIPTION:In this Lunch & Learn session\, Bupa’s PeopleSoft Support and Development Senior Analyst\, Kirsty Dixon\, will share how her team leveraged GT eForms to extend automation within PeopleSoft Financials. Kirsty will provide a brief overview of the 11 forms Bupa has implemented so far and then dive deeper into two payment-focused use cases. \nThis session will demonstrate how an existing Accounts Payable payment form—previously dependent on technical resources for development and maintenance—was successfully redeveloped using GT eForms. This transformation shifted ownership to the functional team\, enabling Bupa to respond more quickly to business requests. The redesigned form incorporates 15 sub-form types and leverages advanced GT eForms capabilities\, including visual IF conditions\, dynamic field initialization from the data pool\, multiple approval paths & steps\, and automated voucher creation for inclusion in pay cycles. \n  \nFollowing this\, we will showcase a contingent worker payment request form that further utilizes GT eForms functionality which replaced a highly manual\, spreadsheet-driven\, and time-sensitive workflow. Attendees will see how GT eForms introduced standardized submissions\, pre-populated grids\, query links\, and embedded validation steps within approval paths—significantly reducing errors and improving efficiency. \n  \nThis session is ideal for organizations seeking to modernize financial processes and maximize the value of their PeopleSoft environment. \n 
URL:https://gideontaylor.fluid22.dev/event/lunch-and-learn-from-manual-to-modern-extending-peoplesoft-financials-automation-with-gt-eforms/
LOCATION:Online\, United States
CATEGORIES:Lunch & Learn,PeopleSoft Webinar
ATTACH;FMTTYPE=image/png:https://gideontaylor.fluid22.dev/wp-content/uploads/2024/12/gt_lunch_and_learn_logo_25-e1750286230571.png
ORGANIZER;CN="Gideon Taylor":MAILTO:info@gideontaylor.fluid22.dev
END:VEVENT
BEGIN:VEVENT
DTSTART;TZID=America/Denver:20260320T110000
DTEND;TZID=America/Denver:20260320T120000
DTSTAMP:20260421T174935
CREATED:20260107T224542Z
LAST-MODIFIED:20260417T210300Z
UID:17439-1774004400-1774008000@gideontaylor.fluid22.dev
SUMMARY:GT Ignite/Alliance Recap — What’s New\, What’s Coming\, and Why It Matters
DESCRIPTION:The GT Team looks forward to the Alliance Conference—it’s our premier opportunity to share major updates\, connect with our community\, and highlight what’s ahead. This year is especially exciting as we kick off Alliance with GT Ignite\, our new showcase event designed to spotlight the innovations shaping the next chapter of GT solutions. \nIn this session\, we will unveil our biggest product announcements of the year and preview new capabilities that will enhance how our customers work with PeopleSoft and GT tools. We will also share key themes\, insights\, and hot topics gathered from the sessions we attend throughout Alliance. From product enhancements to emerging trends\, the session will provide a curated view of what’s new\, what’s coming\, and what matters most. \nJoin us for a fast-paced\, high-value overview designed to keep you informed\, inspired\, and ready for what’s next.
URL:https://gideontaylor.fluid22.dev/event/gt-lunch-and-learn-gt-ignite-alliance-recap-whats-new-whats-coming-and-why-it-matters/
CATEGORIES:Lunch & Learn,PeopleSoft Webinar
ATTACH;FMTTYPE=image/png:https://gideontaylor.fluid22.dev/wp-content/uploads/2024/12/gt_lunch_and_learn_logo_25-e1750286230571.png
ORGANIZER;CN="Gideon Taylor":MAILTO:info@gideontaylor.fluid22.dev
END:VEVENT
BEGIN:VEVENT
DTSTART;TZID=America/Denver:20260219T110000
DTEND;TZID=America/Denver:20260219T120000
DTSTAMP:20260421T174935
CREATED:20251216T221933Z
LAST-MODIFIED:20260417T210304Z
UID:17286-1771498800-1771502400@gideontaylor.fluid22.dev
SUMMARY:Replacing Legacy Applications with Integrated PeopleSoft Processes at Univ of Oklahoma
DESCRIPTION:University of Oklahoma’s legacy Service Unit Billing application would soon become harder to support. Already being PeopleSoft users\, the question was\, could they use PeopleSoft to replace the functionality of highly customized external applications? With GT’s help\, they answered that question with a resounding “Yes!” \nJoin us to find out how OU and GT leveraged vanilla functionality and a tightly-scoped design to deploy the PeopleSoft Accounts Receivable and Billing modules to the external billing team in just 10 weeks\, retiring custom applications and reducing manual effort and technical debt.
URL:https://gideontaylor.fluid22.dev/event/university-of-oklahoma-implementing-billing-accounts-receivable/
CATEGORIES:Lunch & Learn,PeopleSoft Webinar
ATTACH;FMTTYPE=image/png:https://gideontaylor.fluid22.dev/wp-content/uploads/2024/12/gt_lunch_and_learn_logo_25-e1750286230571.png
ORGANIZER;CN="Gideon Taylor":MAILTO:info@gideontaylor.fluid22.dev
END:VEVENT
BEGIN:VEVENT
DTSTART;TZID=America/Denver:20260212T110000
DTEND;TZID=America/Denver:20260212T120000
DTSTAMP:20260421T174935
CREATED:20260128T011040Z
LAST-MODIFIED:20260213T162007Z
UID:17691-1770894000-1770897600@gideontaylor.fluid22.dev
SUMMARY:WCAG 2.1 AA Compliance in PeopleSoft: The Accessibility Playbook You Need
DESCRIPTION:Webinar: WCAG 2.1 AA Compliance\nThe accessibility playbook you need\nThis session provides a high-level look at the current state of accessibility in PeopleSoft\, including where delivered Classic\, Classic+\, and Fluid pages meet (or fall short of) current standards. We’ll review who is impacted\, what’s changing\, and practical options for closing accessibility gaps\, such as adopting compliant Fluid pages\, modifying existing pages\, building custom Fluid or eForms solutions\, and leveraging chatbot technology with visual and auditory support. Attendees will leave with an actionable view of how to move forward with confidence.
URL:https://gideontaylor.fluid22.dev/event/wcag-2-1-aa-compliance-supporting-accessibility-requirements-as-wcag-deadlines-approach/
CATEGORIES:Online Webinar,PeopleSoft Webinar
ATTACH;FMTTYPE=image/png:https://gideontaylor.fluid22.dev/wp-content/uploads/2025/06/roundtable-webinar-scaled.png
ORGANIZER;CN="Gideon Taylor":MAILTO:info@gideontaylor.fluid22.dev
END:VEVENT
BEGIN:VEVENT
DTSTART;TZID=America/Denver:20260115T110000
DTEND;TZID=America/Denver:20260115T120000
DTSTAMP:20260421T174935
CREATED:20251210T180628Z
LAST-MODIFIED:20260116T180517Z
UID:16894-1768474800-1768478400@gideontaylor.fluid22.dev
SUMMARY:Troubleshooting PeopleSoft Performance: Five Costly Mistakes and the ‘Mechanic Mindset' That Helps You Fix Them
DESCRIPTION:Troubleshooting PeopleSoft Performance:\nFive Costly PeopleSoft Mistakes and the ‘Mechanic Mindset’ That Helps You Fix Them\n\nWhen PeopleSoft performance suffers\, users feel it first: slow login times\, unresponsive pages\, confusing error messages\, etc. But when it’s time to troubleshoot\, even experienced teams can get lost in the weeds of log files\, server layers\, and cloudy assumptions about where the problem originates.\n\n\nThis session exposes costly pitfalls: chasing the wrong log\, presuming infrastructure is sound\, and skipping basics. We’ll emphasize clear user input\, architecture awareness\, and the discipline to start at the beginning\, applying an old-school mechanic’s mindset: check assumptions and test fundamentals. Drawing on years supporting education\, government\, and corporate environments\, we’ll teach you to spot patterns\, avoid rabbit holes\, and navigate PeopleSoft’s logging.\n\n\nWe’ll apply an old-school problem-solving mindset to a high-tech platform\, because systems tend to break in predictable ways. You’ll leave with a practical troubleshooting framework you can use immediately to improve uptime\, responsiveness\, and your team’s ability to solve the right problems faster.
URL:https://gideontaylor.fluid22.dev/event/troubleshooting-peoplesoft-performance-five-costly-mistakes-and-the-mechanic-mindset-that-helps-you-fix-them/
CATEGORIES:Lunch & Learn,PeopleSoft Webinar
ATTACH;FMTTYPE=image/png:https://gideontaylor.fluid22.dev/wp-content/uploads/2024/12/gt_lunch_and_learn_logo_25-e1750286230571.png
ORGANIZER;CN="Gideon Taylor":MAILTO:info@gideontaylor.fluid22.dev
END:VEVENT
END:VCALENDAR