BEGIN:VCALENDAR
VERSION:2.0
PRODID:-//Gideon Taylor - ECPv6.15.20//NONSGML v1.0//EN
CALSCALE:GREGORIAN
METHOD:PUBLISH
X-WR-CALNAME:Gideon Taylor
X-ORIGINAL-URL:https://gideontaylor.fluid22.dev
X-WR-CALDESC:Events for Gideon Taylor
REFRESH-INTERVAL;VALUE=DURATION:PT1H
X-Robots-Tag:noindex
X-PUBLISHED-TTL:PT1H
BEGIN:VTIMEZONE
TZID:America/Denver
BEGIN:DAYLIGHT
TZOFFSETFROM:-0700
TZOFFSETTO:-0600
TZNAME:MDT
DTSTART:20250309T090000
END:DAYLIGHT
BEGIN:STANDARD
TZOFFSETFROM:-0600
TZOFFSETTO:-0700
TZNAME:MST
DTSTART:20251102T080000
END:STANDARD
BEGIN:DAYLIGHT
TZOFFSETFROM:-0700
TZOFFSETTO:-0600
TZNAME:MDT
DTSTART:20260308T090000
END:DAYLIGHT
BEGIN:STANDARD
TZOFFSETFROM:-0600
TZOFFSETTO:-0700
TZNAME:MST
DTSTART:20261101T080000
END:STANDARD
BEGIN:DAYLIGHT
TZOFFSETFROM:-0700
TZOFFSETTO:-0600
TZNAME:MDT
DTSTART:20270314T090000
END:DAYLIGHT
BEGIN:STANDARD
TZOFFSETFROM:-0600
TZOFFSETTO:-0700
TZNAME:MST
DTSTART:20271107T080000
END:STANDARD
END:VTIMEZONE
BEGIN:VEVENT
DTSTART;TZID=America/Denver:20260504T080000
DTEND;TZID=America/Denver:20260507T170000
DTSTAMP:20260421T173154
CREATED:20260407T194206Z
LAST-MODIFIED:20260407T225056Z
UID:18135-1777881600-1778173200@gideontaylor.fluid22.dev
SUMMARY:Meet Gideon Taylor at BLUEPRINT 4D 2026 
DESCRIPTION:BLUEPRINT 4D is the premier event for Oracle enterprise application leaders\, bringing together JD Edwards\, PeopleSoft\, and Oracle Cloud communities May 4–7\, 2026 at the Hilton Anatole in Dallas\, TX. Gideon Taylor is proud to be both an exhibitor and a presenter at this year’s conference — come visit us at Booth #1016 & #1018 and join us for three sessions where our experts will share practical\, real-world insights you can take back and put to work immediately. \nWhether you’re navigating ERP modernization\, building your cloud strategy\, or exploring what AI really means for your enterprise\, BLUEPRINT 4D delivers the roadmap clarity and peer connection you need. Executives attend to shape direction\, managers and product owners attend to turn strategy into action — and everyone leaves better prepared. Don’t miss your chance to connect with the Gideon Taylor team in person. Register today before Advance Registration closes May 1! \n  \nGideon Taylor Presenting at BLUEPRINT 4D \nHow to Apply PeopleSoft PUM Images and CPUs with Minimal Downtime\, More Confidence\, and Greater Peace of Mind\nPresented by John Marcus | Monday\, May 4 | 9:45 AM \nTop 10 AI Questions You’re NOT Asking\nPresented by John Bediz | Tuesday\, May 5 | 11:00 AM \nSaaS Moves – What Could Go Wrong?\nPresented by Paul Taylor | Thursday\, May 7 | 11:00 AM
URL:https://gideontaylor.fluid22.dev/event/meet-gideon-taylor-at-blueprint-4d-2026/
LOCATION:Hilton Anatole\, 2201 Stemmons Freeway\, Dallas\, TX\, 75207​​​​​​​​​​​​​​​​\, United States
CATEGORIES:Blueprint 4D,Conference
ATTACH;FMTTYPE=image/png:https://gideontaylor.fluid22.dev/wp-content/uploads/2026/04/BLUEPRINT-4D_Dark_No-Tagline_1920wide-2.png
END:VEVENT
BEGIN:VEVENT
DTSTART;TZID=America/Denver:20260521T110000
DTEND;TZID=America/Denver:20260521T120000
DTSTAMP:20260421T173154
CREATED:20260403T145733Z
LAST-MODIFIED:20260403T174421Z
UID:18121-1779361200-1779364800@gideontaylor.fluid22.dev
SUMMARY:Delivering Customer Success Through Managed Services & Strategic Staffing
DESCRIPTION:In this Lunch & Learn session\, we’ll walk through how organizations are using a combination of managed services and strategic staffing to keep their PeopleSoft environments stable while still making room for meaningful change. \nWe’ll share customer examples from organizations like the University of Oklahoma\, Wakefern\, BYU\, and Southern Methodist University—and others—illustrating how layered support models paired with on-demand specialized resources have helped teams reduce project backlogs\, address skill gaps\, and maintain continuity during transitions\, without sacrificing flexibility or blowing up costs. We’ll also look at how this hybrid approach has supported more significant initiatives like cloud migrations and system upgrades\, where having the right people available at the right time made a tangible difference. \nAttendees will leave with a clearer picture of how to align support models with their organization’s goals and a practical sense of what a sustainable IT service delivery model can look like. \nThis session is ideal for organizations evaluating their current support structure or looking for smarter ways to resource critical projects.
URL:https://gideontaylor.fluid22.dev/event/delivering-customer-success-through-managed-services-strategic-staffing/
LOCATION:Online Webinar
CATEGORIES:Lunch & Learn,Online Webinar
ATTACH;FMTTYPE=image/png:https://gideontaylor.fluid22.dev/wp-content/uploads/2024/12/gt_lunch_and_learn_logo_25-e1750286230571.png
ORGANIZER;CN="Gideon Taylor":MAILTO:info@gideontaylor.fluid22.dev
END:VEVENT
END:VCALENDAR