BEGIN:VCALENDAR
VERSION:2.0
PRODID:-//Gideon Taylor - ECPv6.15.20//NONSGML v1.0//EN
CALSCALE:GREGORIAN
METHOD:PUBLISH
X-ORIGINAL-URL:https://gideontaylor.fluid22.dev
X-WR-CALDESC:Events for Gideon Taylor
REFRESH-INTERVAL;VALUE=DURATION:PT1H
X-Robots-Tag:noindex
X-PUBLISHED-TTL:PT1H
BEGIN:VTIMEZONE
TZID:America/Denver
BEGIN:DAYLIGHT
TZOFFSETFROM:-0700
TZOFFSETTO:-0600
TZNAME:MDT
DTSTART:20220313T090000
END:DAYLIGHT
BEGIN:STANDARD
TZOFFSETFROM:-0600
TZOFFSETTO:-0700
TZNAME:MST
DTSTART:20221106T080000
END:STANDARD
BEGIN:DAYLIGHT
TZOFFSETFROM:-0700
TZOFFSETTO:-0600
TZNAME:MDT
DTSTART:20230312T090000
END:DAYLIGHT
BEGIN:STANDARD
TZOFFSETFROM:-0600
TZOFFSETTO:-0700
TZNAME:MST
DTSTART:20231105T080000
END:STANDARD
BEGIN:DAYLIGHT
TZOFFSETFROM:-0700
TZOFFSETTO:-0600
TZNAME:MDT
DTSTART:20240310T090000
END:DAYLIGHT
BEGIN:STANDARD
TZOFFSETFROM:-0600
TZOFFSETTO:-0700
TZNAME:MST
DTSTART:20241103T080000
END:STANDARD
END:VTIMEZONE
BEGIN:VEVENT
DTSTART;VALUE=DATE:20231001
DTEND;VALUE=DATE:20231004
DTSTAMP:20260425T220233
CREATED:20230810T221533Z
LAST-MODIFIED:20250313T130559Z
UID:2373-1696183200-1696355999@gideontaylor.fluid22.dev
SUMMARY:HEUG Central - Illinois
DESCRIPTION:  \n \nGideon Taylor is excited to be attending HEUG Central – Illinois. Please join us for two days of learning\, networking\, and fun! We also look forward to presenting multiple sessions during the conference. We’ll see you in beautiful Oak Brook! \nYou’ll also be able to find us at any of these sessions featuring Gideon Taylor solutions:\n\nSession 6022 (PeopleSoft & Cloud) What Color is Your Parachute? Smart Strategies to Get From Today’s PeopleSoft to What’s Next  (Tuesday\, October 3rd\, 8:30-9:30 AM) Join us for successful strategies that will ensure a soft landing when your next big ERP project comes.\n\n\n\nSession 6001 (GT eForms) Automating the Student Experience at the University of Wisconsin – Madison with GT eForms (Tuesday\, October 3rd\, 10:00-11:00 AM) We will dive into how the UW-Madison continues to streamline the student experience.\n\n\n\nSession 6307 (Chatbots) “LUie\, what’s my Math Placement score?” (Tuesday\, October 3rd\, 10:00-11:00 AM) Join Loyola and IntraSee as they share key learnings from their collaboration.\n\n\n\nSession 6024 (Artificial Intelligence/Chatbots) AI is suddenly everywhere! What is the fuss and where can I get value? (Tuesday\, October 3rd\, 11:15-12:15 PM) Join us as we explore how AI is revolutionizing the higher education experience.\n\n\n\nSession 6020 (GT eForms) To Boldly Go Where No Verification eForm Has Gone Before: Case Study – GT eForms Implementation (Tuesday\, October 3rd\, 11:15-12:15 PM) Learn how Illinois Central College implemented 86 eForms in only 4 months!\n\n\n\nSession 6028 (GT eForms) GT eForms Solution Sharing (Tuesday\, October 3rd\, 1:30-2:30 PM) Join users from around the region to share solutions\, challenges\, and experiences related to AWE\, Workflow\, and GT eForms.\n\n\n\nSession 6023 (PeopleSoft) What if PeopleSoft Were More Like Alexa? (Tuesday\, October 3rd\, 2:45-3:45 PM) We’ll discuss and demonstrate ways to revolutionize how your PeopleSoft users interact and collaborate with your applications\, your data\, and each other.
URL:https://gideontaylor.fluid22.dev/event/heug-central-illinois/
LOCATION:TX
CATEGORIES:HEUG Regional
ATTACH;FMTTYPE=image/gif:https://gideontaylor.fluid22.dev/wp-content/uploads/2024/03/Oakbrook-e1695668924830.gif
END:VEVENT
BEGIN:VEVENT
DTSTART;VALUE=DATE:20231008
DTEND;VALUE=DATE:20231011
DTSTAMP:20260425T220233
CREATED:20230810T230828Z
LAST-MODIFIED:20250313T130559Z
UID:2379-1696788000-1696960799@gideontaylor.fluid22.dev
SUMMARY:HEUG East - North Carolina
DESCRIPTION:  \n \nGideon Taylor is excited to be attending HEUG East – North Carolina. Please join us for two days of learning\, networking\, and fun! We also look forward to presenting multiple sessions during the conference. We’ll see you in beautiful Raleigh! \nYou’ll also be able to find us at any of these sessions featuring Gideon Taylor solutions:\n\nSession 6023 (Enterprise Chatbots) How VCCS rolled out 1 AI Chatbot federated to 23 colleges with integration to GPT (Monday\, October 9th\, 2:30-3:30 PM) Imagine a future where students’ needs are met 24/7\, in multiple languages\, and with personalized care.\n\n\n\nSession 6029 (Enterprise Chatbots) AI is suddenly everywhere! What is the fuss and where can I get value? (Tuesday\, October 10\, 8:30-9:30 AM) Join us as we explore how AI is revolutionizing the higher education experience.\n\n\n\nSession 6030 (PeopleSoft) What if PeopleSoft Were More Like Alexa? (Tuesday\, October 10\, 10:00-11:00 AM) We’ll discuss and demonstrate ways to revolutionize how your PeopleSoft users interact and collaborate with your applications\, your data\, and each other.\n\n\n\nSession 6031 (PeopleSoft) What Color is Your Parachute? Smart Strategies to Get From Today’s PeopleSoft to What’s Next  (Tuesday\, October 10\, 2:45-3:45 PM) Join us for successful strategies that will ensure a soft landing when your next big ERP project comes.
URL:https://gideontaylor.fluid22.dev/event/heug-east-north-carolina-2/
LOCATION:TX
ATTACH;FMTTYPE=image/jpeg:https://gideontaylor.fluid22.dev/wp-content/uploads/2024/03/HEUG-NC-e1696007161174.jpeg
END:VEVENT
BEGIN:VEVENT
DTSTART;VALUE=DATE:20231008
DTEND;VALUE=DATE:20231013
DTSTAMP:20260425T220233
CREATED:20230729T050139Z
LAST-MODIFIED:20250116T152037Z
UID:2371-1696788000-1697133599@gideontaylor.fluid22.dev
SUMMARY:EDUCAUSE 2023
DESCRIPTION:Join us at EDUCAUSE 2023!\nGideon Taylor is excited to announce that we’ll be attending EDUCAUSE 2023 in Chicago\, Illinois\, October 9-12th. \n\nStop by our Exhibit Hall booth #350 and say “hello!”\nJoin us for an exciting presentation about how to implement a successful chatbot in higher ed featuring VCCS.\nMeet our team\, including our CEO!\nSign up for our giveaway!\n\nWe’ll see you in Chicago!
URL:https://gideontaylor.fluid22.dev/event/educause-2023/
LOCATION:PeopleSoft
ATTACH;FMTTYPE=image/png:https://gideontaylor.fluid22.dev/wp-content/uploads/2024/03/E23-Social-Media-1200x628px.png
END:VEVENT
BEGIN:VEVENT
DTSTART;VALUE=DATE:20231022
DTEND;VALUE=DATE:20231027
DTSTAMP:20260425T220233
CREATED:20230925T214144Z
LAST-MODIFIED:20250116T152039Z
UID:2389-1697997600-1698343199@gideontaylor.fluid22.dev
SUMMARY:RECONNECT 2023 Deep Dive
DESCRIPTION:Join Gideon Taylor online for RECONNECT Dive Deep\nOctober 23-26\, 2023\nWe’re pleased to join Quest Oracle Community at RECONNECT Deep Dive 2023. This is THE virtual event of the year\, and we can’t wait to see you there! Gideon Taylor will be presenting during multiple sessions. As the exclusive Tools & Tech session sponsor\, we’ll also be sharing our latest updates during the Tools & Tech Roadmap. Here’s the link to our Virtual Booth. Stop by and say hello! \nHere are some of our sessions. Please join us! \n \nWe’ll also be giving away a pair of new AirPod Pros as part of Quest-opoly. Be sure and register to win!
URL:https://gideontaylor.fluid22.dev/event/reconnect-2023-deep-dive/
LOCATION:TX
ATTACH;FMTTYPE=image/png:https://gideontaylor.fluid22.dev/wp-content/uploads/2024/03/reconnect-dive-deep_2023_date-lockup.png
END:VEVENT
END:VCALENDAR