BEGIN:VCALENDAR
VERSION:2.0
PRODID:-//Gideon Taylor - ECPv6.15.20//NONSGML v1.0//EN
CALSCALE:GREGORIAN
METHOD:PUBLISH
X-ORIGINAL-URL:https://gideontaylor.fluid22.dev
X-WR-CALDESC:Events for Gideon Taylor
REFRESH-INTERVAL;VALUE=DURATION:PT1H
X-Robots-Tag:noindex
X-PUBLISHED-TTL:PT1H
BEGIN:VTIMEZONE
TZID:America/Denver
BEGIN:DAYLIGHT
TZOFFSETFROM:-0700
TZOFFSETTO:-0600
TZNAME:MDT
DTSTART:20240310T090000
END:DAYLIGHT
BEGIN:STANDARD
TZOFFSETFROM:-0600
TZOFFSETTO:-0700
TZNAME:MST
DTSTART:20241103T080000
END:STANDARD
BEGIN:DAYLIGHT
TZOFFSETFROM:-0700
TZOFFSETTO:-0600
TZNAME:MDT
DTSTART:20250309T090000
END:DAYLIGHT
BEGIN:STANDARD
TZOFFSETFROM:-0600
TZOFFSETTO:-0700
TZNAME:MST
DTSTART:20251102T080000
END:STANDARD
BEGIN:DAYLIGHT
TZOFFSETFROM:-0700
TZOFFSETTO:-0600
TZNAME:MDT
DTSTART:20260308T090000
END:DAYLIGHT
BEGIN:STANDARD
TZOFFSETFROM:-0600
TZOFFSETTO:-0700
TZNAME:MST
DTSTART:20261101T080000
END:STANDARD
END:VTIMEZONE
BEGIN:VEVENT
DTSTART;TZID=America/Denver:20250211T111500
DTEND;TZID=America/Denver:20250211T121500
DTSTAMP:20260424T135622
CREATED:20250127T171738Z
LAST-MODIFIED:20260219T141355Z
UID:12055-1739272500-1739276100@gideontaylor.fluid22.dev
SUMMARY:Beyond the Hype of AI in Healthcare – Navigating Oracle\, AI and You
DESCRIPTION:Join us for an engaging and thought-provoking panel discussion designed to untangle the AI in Healthcare buzz from reality – and its immediate impact to the Oracle Ecosystem and enterprise software and automation. The panel will discuss the current state of enterprise software and the transformative promise of AI using real-world case studies. Attendees will gain actionable insights and strategies to navigate the evolving technological landscape with confidence. \nThis is not your typical vendor session — it’s a roadmap for navigating uncharted waters with confidence and clarity. \nKey Takeaways:\n\nLearn the current state of AI and its impact to healthcare IT environments running Oracle\nDiscover proven strategies to help avoid common AI pitfalls\nUnderstand the key points in developing an AI playbook\nBe more prepared to answer the question: What’s our AI strategy?\n\nFeatured Speakers:\n\nSpeaker: Paul Taylor\, Gideon Taylor CEO\, brings decades of experience in enterprise software\, automation\, and business process engineering.\nSpeaker: Andrew Bediz\, Gideon Taylor Managing Director of AI\, widely recognized as the foremost expert in AI within the Oracle Ecosystem.\nModerator: Brad Rutledge\, Gideon Taylor Marketing\, has more than 20 years of experience in leading conversations about advanced technologies for enterprise and government.\n\nWho should attend:\nIdeal for Chief Technical Officers (CTOs)\, Chief Information Officers (CIOs)\, Chief Digital Officers (CDO)\, Chief Innovation Officers (CIOs)\, IT Directors\, Digital Transformation Managers\, ERP Directors\, and Healthcare Technology Strategists who want to understand AI’s impact on healthcare operations and Oracle systems.
URL:https://gideontaylor.fluid22.dev/event/beyond-the-hype-of-ai-in-healthcare-navigating-oracle-ai-and-you/
LOCATION:Online\, United States
CATEGORIES:Online Webinar
ATTACH;FMTTYPE=image/png:https://gideontaylor.fluid22.dev/wp-content/uploads/2025/01/PeopleSoft-Industry-Days-Healthcare-Feb-11.png
END:VEVENT
BEGIN:VEVENT
DTSTART;TZID=America/Denver:20250220T110000
DTEND;TZID=America/Denver:20250220T120000
DTSTAMP:20260424T135622
CREATED:20241218T055422Z
LAST-MODIFIED:20250620T154641Z
UID:11946-1740049200-1740052800@gideontaylor.fluid22.dev
SUMMARY:From Additional Pay to FMLA Requests\, learn how these forms streamline operations\, improve efficiency and enhance standardization
DESCRIPTION:Join Gideon Taylor and the University of Utah as they share their experience using GT eForms to revolutionize their Leave Request and Additional Pay processes. Learn how these powerful digital forms have streamlined operations\, improved efficiency\, and enhanced standardization across the institution. \nIn this session\, you’ll discover: \n\nLeave Request Form: The University of Utah’s innovative approach to managing employee leave requests. With an intuitive\, user-friendly questionnaire\, this form guides employees to the correct leave type\, ensuring accuracy and ease of use. Learn how it has also simplified leave administration and improved reporting capabilities for the Leave Administration team.\nAdditional Pay Form: Explore how the university extended their Additional Pay form process with the creation of a form to handle bulk submissions. This feature allows departments with a high volume of additional pay requests to submit them all at once with just one form—saving time and reducing administrative burden.\n\nBoth forms have significantly improved the university’s efficiency\, reduced errors\, and created a more standardized approach to key HR processes.
URL:https://gideontaylor.fluid22.dev/event/gt-eforms-lunch-learn-from-additional-pay-to-fmla-requests-a-tale-of-complexity/
LOCATION:Webinar
CATEGORIES:Lunch & Learn
ATTACH;FMTTYPE=image/png:https://gideontaylor.fluid22.dev/wp-content/uploads/2024/12/UofU-lunch_and_learn.png
ORGANIZER;CN="Gideon Taylor":MAILTO:info@gideontaylor.fluid22.dev
END:VEVENT
BEGIN:VEVENT
DTSTART;TZID=America/Denver:20250225T111500
DTEND;TZID=America/Denver:20250225T121500
DTSTAMP:20260424T135622
CREATED:20250128T233818Z
LAST-MODIFIED:20250313T130310Z
UID:12097-1740482100-1740485700@gideontaylor.fluid22.dev
SUMMARY:Removing the Hype of AI in Higher Ed – Navigating Oracle\, AI and You
DESCRIPTION:Join us for an engaging and thought-provoking panel discussion designed to untangle the AI in Higher Education buzz from reality – and its immediate impact to the Oracle Ecosystem\, enterprise software and automation. The panel will discuss the current state of enterprise software and the transformative promise of AI using real-world case studies. Topics like the Enrollment Cliff will be explored with a focus on how the use of AI can help deliver enhanced personalized and automated services that reduce costs and lower tuition\, while improving student recruitment\, retention\, and success. Attendees will gain actionable insights and strategies to navigate the evolving technological landscape with confidence. \nThis is not your typical vendor session — it’s a roadmap for navigating uncharted waters with confidence and clarity. \n\nREGISTER NOW!\nA Quest Oracle Community Event – Tues.\, Feb. 25\, 2025 \n1:15pm EST | 12:15pm CST | 11:15am MST | 10:15am PST —  60 min. Webinar \n\nKey Takeaways:\n\nLearn the current state of AI and its impact to Higher Ed IT environments running Oracle\nDiscover proven strategies to help avoid common AI pitfalls\nUnderstand the key points in developing an AI playbook\nBe more prepared to answer the question: What’s our AI strategy?\n\nFeatured Speakers:\n\nSpeaker: Paul Taylor\, Gideon Taylor CEO\, brings decades of experience in enterprise software\, automation\, and business process engineering.\nSpeaker: Andrew Bediz\, Gideon Taylor Managing Director of AI\, widely recognized as the foremost expert in AI within the Oracle Ecosystem.\nModerator: Brad Rutledge\, Gideon Taylor Marketing\, has more than 20 years of experience in leading conversations about advanced technologies.\n\nWho should attend:\nIdeal for Chief Technical Officers (CTOs)\, Chief Information Officers (CIOs)\, Chief Digital Officers (CDO)\, Chief Innovation Officers (CIOs)\, IT Directors\, Digital Transformation Managers\, ERP Directors\, and Higher Education Technology Strategists who want to understand AI’s impact on higher education operations and Oracle systems. \n\nREGISTER NOW!\nA Quest Oracle Community Event
URL:https://gideontaylor.fluid22.dev/event/removing-the-hype-of-ai-in-higher-ed-navigating-oracle-ai-and-you/
LOCATION:Online Webinar
CATEGORIES:Online Webinar,Quest Oracle Community
ATTACH;FMTTYPE=image/jpeg:https://gideontaylor.fluid22.dev/wp-content/uploads/2025/01/PSFT-IndustryDays_HE_REG2_1200x630.jpg
END:VEVENT
END:VCALENDAR