BEGIN:VCALENDAR
VERSION:2.0
PRODID:-//Gideon Taylor - ECPv6.15.20//NONSGML v1.0//EN
CALSCALE:GREGORIAN
METHOD:PUBLISH
X-WR-CALNAME:Gideon Taylor
X-ORIGINAL-URL:https://gideontaylor.fluid22.dev
X-WR-CALDESC:Events for Gideon Taylor
REFRESH-INTERVAL;VALUE=DURATION:PT1H
X-Robots-Tag:noindex
X-PUBLISHED-TTL:PT1H
BEGIN:VTIMEZONE
TZID:America/Denver
BEGIN:DAYLIGHT
TZOFFSETFROM:-0700
TZOFFSETTO:-0600
TZNAME:MDT
DTSTART:20240310T090000
END:DAYLIGHT
BEGIN:STANDARD
TZOFFSETFROM:-0600
TZOFFSETTO:-0700
TZNAME:MST
DTSTART:20241103T080000
END:STANDARD
BEGIN:DAYLIGHT
TZOFFSETFROM:-0700
TZOFFSETTO:-0600
TZNAME:MDT
DTSTART:20250309T090000
END:DAYLIGHT
BEGIN:STANDARD
TZOFFSETFROM:-0600
TZOFFSETTO:-0700
TZNAME:MST
DTSTART:20251102T080000
END:STANDARD
BEGIN:DAYLIGHT
TZOFFSETFROM:-0700
TZOFFSETTO:-0600
TZNAME:MDT
DTSTART:20260308T090000
END:DAYLIGHT
BEGIN:STANDARD
TZOFFSETFROM:-0600
TZOFFSETTO:-0700
TZNAME:MST
DTSTART:20261101T080000
END:STANDARD
END:VTIMEZONE
BEGIN:VEVENT
DTSTART;TZID=America/Denver:20250701T100000
DTEND;TZID=America/Denver:20250701T140000
DTSTAMP:20260424T041049
CREATED:20250530T204937Z
LAST-MODIFIED:20250617T202034Z
UID:14530-1751364000-1751378400@gideontaylor.fluid22.dev
SUMMARY:Training- Advanced GT eForms Configuration
DESCRIPTION:A 4-hour advanced training class designed for GT eForms builders who have completed the introductory training. The session focuses on extending configuration skills to handle more complex business processes\, covering popular features in greater depth and exploring design decision-making for challenging configuration situations. \nAdditional topics include: \n\nAdvanced data pool configuration\nWorking with instruction fields\nAdvanced visual if logic\n\nCost: \n\n$600 per seat for Currently Scheduled Open Sessions (scheduled sessions available on calendar)\n$1\,800 for a Dedicated Session (by request – your company only\, up to 8 attendees)\n\n 
URL:https://gideontaylor.fluid22.dev/event/training-advanced-gt-eforms-configuration/
LOCATION:Online\, United States
CATEGORIES:Trainings
ATTACH;FMTTYPE=image/png:https://gideontaylor.fluid22.dev/wp-content/uploads/2025/04/Screenshot-2025-04-23-at-9.34.15 PM.png
ORGANIZER;CN="Gideon Taylor":MAILTO:info@gideontaylor.fluid22.dev
END:VEVENT
BEGIN:VEVENT
DTSTART;TZID=America/Denver:20250707T100000
DTEND;TZID=America/Denver:20250707T140000
DTSTAMP:20260424T041049
CREATED:20250530T211330Z
LAST-MODIFIED:20250617T203023Z
UID:14541-1751882400-1751896800@gideontaylor.fluid22.dev
SUMMARY:Training- Web Development Lite for PeopleSoft
DESCRIPTION:Hands-on training for PeopleSoft tech professionals to enhance applications using HTML\, CSS\, and JavaScript. Focus on improving user experience and modernizing interfaces while maintaining system upgradability. \n  \nAdditional Topics include: \n\nPeopleSoft’s Web Architecture\nUI Enhancement with HTML and CSS (styling\, responsive design\, branding)\nJavaScript Interactivity (event-driven scripting\, safe implementation)\nPractical Exercises and Real-World Use Cases\nBest practices for maintaining upgradability\n\nCost: \n\n$850 per seat for Currently Scheduled Open Sessions\n$2\,500 for a Dedicated Session (your company only\, up to 8 attendees)
URL:https://gideontaylor.fluid22.dev/event/training-web-development-lite-for-peoplesoft/
LOCATION:Online\, United States
CATEGORIES:Trainings
ATTACH;FMTTYPE=image/png:https://gideontaylor.fluid22.dev/wp-content/uploads/2025/04/Screenshot-2025-04-23-at-9.34.15 PM.png
ORGANIZER;CN="Gideon Taylor":MAILTO:info@gideontaylor.fluid22.dev
END:VEVENT
BEGIN:VEVENT
DTSTART;TZID=America/Denver:20250709T100000
DTEND;TZID=America/Denver:20250709T140000
DTSTAMP:20260424T041049
CREATED:20250530T214637Z
LAST-MODIFIED:20250617T202851Z
UID:14551-1752055200-1752069600@gideontaylor.fluid22.dev
SUMMARY:Training- Campus Solutions & GT eForms
DESCRIPTION:4-hour training for GT eForms builders working in Campus Solutions to maximize eForms with custom fields\, alerts\, and advanced data access. Focus on leveraging delivered functionality and understanding data structuring for datapool use. \nAdditional Topics: \n\nConfigure Common Attribute Framework (CAF) for system-wide use including eForms\nLeverage 3Cs to send automated reminders to internal users\nMaster the datapool: find needed data and implement it effectively in forms\nExtend delivered records with new fields for workflow and form logic control\n\nCost: \n\n$450 per seat for Currently Scheduled Open Sessions\n$1\,400 for a Dedicated Session (your company only\, up to 8 attendees)
URL:https://gideontaylor.fluid22.dev/event/training-campus-solutions-gt-eforms/
LOCATION:Online\, United States
CATEGORIES:Trainings
ATTACH;FMTTYPE=image/png:https://gideontaylor.fluid22.dev/wp-content/uploads/2025/04/Screenshot-2025-04-23-at-9.34.15 PM.png
ORGANIZER;CN="Gideon Taylor":MAILTO:info@gideontaylor.fluid22.dev
END:VEVENT
BEGIN:VEVENT
DTSTART;TZID=America/Denver:20250716T090000
DTEND;TZID=America/Denver:20250716T150000
DTSTAMP:20260424T041049
CREATED:20250709T133912Z
LAST-MODIFIED:20260417T210411Z
UID:15402-1752656400-1752678000@gideontaylor.fluid22.dev
SUMMARY:HEUG Summer Series - GT eForms Day
DESCRIPTION:Get ready for an incredible half-day event focused on driving real transformation through Gideon Taylor’s powerful PeopleSoft automation solutions. This is your chance to learn directly from GT experts and hear firsthand how other institutions are streamlining processes\, improving user experiences\, and seeing real ROI. \n🎯 What to Expect:✔ Real-world success stories from HEUG member institutions✔ Strategic insights for modernizing business processes✔ Live Q&A and interactive discussions \nWhether you’re just starting to explore automation or already working with GT\, this event will equip you with new ideas\, proven strategies\, and inspiration to take your organization further. \nRegistration is required – and the value is undeniable!
URL:https://gideontaylor.fluid22.dev/event/heug-summer-series-gt-eforms-day/
LOCATION:TX
ATTACH;FMTTYPE=image/webp:https://gideontaylor.fluid22.dev/wp-content/uploads/2025/03/spearmc-heug-alliance.webp
END:VEVENT
BEGIN:VEVENT
DTSTART;TZID=America/Denver:20250717T110000
DTEND;TZID=America/Denver:20250717T120000
DTSTAMP:20260424T041049
CREATED:20250509T213948Z
LAST-MODIFIED:20250725T210639Z
UID:14058-1752750000-1752753600@gideontaylor.fluid22.dev
SUMMARY:Less Paper\, More Power: Revolutionizing Faculty Forms
DESCRIPTION:Find out how Los Rios Community Colleges is saying goodbye to multiple PDF Hire forms and using the power of GT eForms to simplify their hiring of Adjunct Faculty Service Agreements.  With powerful form validations to enforce hiring rules and a process to generate multiple forms to get the employees hired\, you won’t want to miss this session.  \nThe Result:  An electronic process to capture and track adjunct hires that takes the stress off of HR and streamlines the process for all!
URL:https://gideontaylor.fluid22.dev/event/less-paper-more-power-revolutionizing-faculty-forms/
LOCATION:Online\, United States
CATEGORIES:Lunch & Learn
ATTACH;FMTTYPE=image/png:https://gideontaylor.fluid22.dev/wp-content/uploads/2024/12/gt_lunch_and_learn_logo_25-e1750286230571.png
ORGANIZER;CN="Gideon Taylor":MAILTO:info@gideontaylor.fluid22.dev
END:VEVENT
END:VCALENDAR