BEGIN:VCALENDAR
VERSION:2.0
PRODID:-//Gideon Taylor - ECPv6.15.20//NONSGML v1.0//EN
CALSCALE:GREGORIAN
METHOD:PUBLISH
X-WR-CALNAME:Gideon Taylor
X-ORIGINAL-URL:https://gideontaylor.fluid22.dev
X-WR-CALDESC:Events for Gideon Taylor
REFRESH-INTERVAL;VALUE=DURATION:PT1H
X-Robots-Tag:noindex
X-PUBLISHED-TTL:PT1H
BEGIN:VTIMEZONE
TZID:America/Denver
BEGIN:DAYLIGHT
TZOFFSETFROM:-0700
TZOFFSETTO:-0600
TZNAME:MDT
DTSTART:20240310T090000
END:DAYLIGHT
BEGIN:STANDARD
TZOFFSETFROM:-0600
TZOFFSETTO:-0700
TZNAME:MST
DTSTART:20241103T080000
END:STANDARD
BEGIN:DAYLIGHT
TZOFFSETFROM:-0700
TZOFFSETTO:-0600
TZNAME:MDT
DTSTART:20250309T090000
END:DAYLIGHT
BEGIN:STANDARD
TZOFFSETFROM:-0600
TZOFFSETTO:-0700
TZNAME:MST
DTSTART:20251102T080000
END:STANDARD
BEGIN:DAYLIGHT
TZOFFSETFROM:-0700
TZOFFSETTO:-0600
TZNAME:MDT
DTSTART:20260308T090000
END:DAYLIGHT
BEGIN:STANDARD
TZOFFSETFROM:-0600
TZOFFSETTO:-0700
TZNAME:MST
DTSTART:20261101T080000
END:STANDARD
END:VTIMEZONE
BEGIN:VEVENT
DTSTART;TZID=America/Denver:20251209T090000
DTEND;TZID=America/Denver:20251209T100000
DTSTAMP:20260421T200404
CREATED:20251202T222230Z
LAST-MODIFIED:20260105T224159Z
UID:17106-1765270800-1765274400@gideontaylor.fluid22.dev
SUMMARY:Navigating Oracle’s AI Update for PeopleSoft - New Paths\, Real Opportunities
DESCRIPTION:Oracle has announced it will no longer develop new AI use cases for PeopleSoft and will deprioritize its PICASO tool. While this marks a change in direction\, it is not the end of AI for PeopleSoft. Instead\, Oracle plans to publish technical guidance and build new AI integration anchor points to help customers build their own AI integrations\, signaling a shift toward customer-driven or partner-enabled innovation.\n\nThis session will explain what Oracle’s update means\, why it is actually a step forward\, and how organizations can continue to progress with AI in PeopleSoft. We will explore the AI tools that are now available\, real-world examples of successful AI deployments\, and how to decide between building in-house or working with an expert partner like Gideon Taylor and ABTIO. Whether your organization is just getting started or already experimenting with AI\, you will leave this session with practical insights and a clear sense of what to do next.\n\n—\nPresented by:\n\nAndrew Bediz\, Gideon Taylor\nRodrigo Urbina\, Abtio\n\n#Oracle #PeopleSoft #AI
URL:https://gideontaylor.fluid22.dev/event/navigating-oracles-ai-update-for-peoplesoft-new-paths-real-opportunities/
LOCATION:TX
CATEGORIES:HEUG
ATTACH;FMTTYPE=image/jpeg:https://gideontaylor.fluid22.dev/wp-content/uploads/2025/12/Oracle-PeopleSoft.jpg
END:VEVENT
BEGIN:VEVENT
DTSTART;TZID=America/Denver:20251211T110000
DTEND;TZID=America/Denver:20251211T120000
DTSTAMP:20260421T200404
CREATED:20251028T135220Z
LAST-MODIFIED:20251218T233757Z
UID:16147-1765450800-1765454400@gideontaylor.fluid22.dev
SUMMARY:From Spreadsheets to Actionable Insights: How North Dakota Transformed Intern Funding Management
DESCRIPTION:Darin Schorsch\, HRIS Manager\, will walk through how his team automated the intern funding request and approval process—from agency submission through fiscal tracking and clawbacks—and replaced a 52-column Excel nightmare with a streamlined\, auditable workflow. You’ll see how Insights Boards now give HR and finance teams real-time visibility into funding status\, approvals\, and remaining balances\, transforming reporting from “tears of frustration to tears of joy.” \nTracking and managing state-funded internships used to mean massive spreadsheets\, endless emails\, and frustrated staff. The State of North Dakota’s Office of Management and Budget turned that process around by moving to GT eForms and Insights Boards. \nJoin us to learn how actionable analytics can take your processes beyond “pretty charts” and deliver true operational efficiency.
URL:https://gideontaylor.fluid22.dev/event/from-spreadsheets-to-actionable-insights-how-north-dakota-transformed-intern-funding-management/
LOCATION:TX
CATEGORIES:Lunch & Learn
ATTACH;FMTTYPE=image/png:https://gideontaylor.fluid22.dev/wp-content/uploads/2024/12/gt_lunch_and_learn_logo_25-e1750286230571.png
ORGANIZER;CN="Gideon Taylor":MAILTO:info@gideontaylor.fluid22.dev
END:VEVENT
END:VCALENDAR