BEGIN:VCALENDAR
VERSION:2.0
PRODID:-//Gideon Taylor - ECPv6.15.20//NONSGML v1.0//EN
CALSCALE:GREGORIAN
METHOD:PUBLISH
X-ORIGINAL-URL:https://gideontaylor.fluid22.dev
X-WR-CALDESC:Events for Gideon Taylor
REFRESH-INTERVAL;VALUE=DURATION:PT1H
X-Robots-Tag:noindex
X-PUBLISHED-TTL:PT1H
BEGIN:VTIMEZONE
TZID:America/Denver
BEGIN:DAYLIGHT
TZOFFSETFROM:-0700
TZOFFSETTO:-0600
TZNAME:MDT
DTSTART:20240310T090000
END:DAYLIGHT
BEGIN:STANDARD
TZOFFSETFROM:-0600
TZOFFSETTO:-0700
TZNAME:MST
DTSTART:20241103T080000
END:STANDARD
BEGIN:DAYLIGHT
TZOFFSETFROM:-0700
TZOFFSETTO:-0600
TZNAME:MDT
DTSTART:20250309T090000
END:DAYLIGHT
BEGIN:STANDARD
TZOFFSETFROM:-0600
TZOFFSETTO:-0700
TZNAME:MST
DTSTART:20251102T080000
END:STANDARD
BEGIN:DAYLIGHT
TZOFFSETFROM:-0700
TZOFFSETTO:-0600
TZNAME:MDT
DTSTART:20260308T090000
END:DAYLIGHT
BEGIN:STANDARD
TZOFFSETFROM:-0600
TZOFFSETTO:-0700
TZNAME:MST
DTSTART:20261101T080000
END:STANDARD
END:VTIMEZONE
BEGIN:VEVENT
DTSTART;TZID=America/Denver:20250211T111500
DTEND;TZID=America/Denver:20250211T121500
DTSTAMP:20260424T162836
CREATED:20250127T171738Z
LAST-MODIFIED:20260219T141355Z
UID:12055-1739272500-1739276100@gideontaylor.fluid22.dev
SUMMARY:Beyond the Hype of AI in Healthcare – Navigating Oracle\, AI and You
DESCRIPTION:Join us for an engaging and thought-provoking panel discussion designed to untangle the AI in Healthcare buzz from reality – and its immediate impact to the Oracle Ecosystem and enterprise software and automation. The panel will discuss the current state of enterprise software and the transformative promise of AI using real-world case studies. Attendees will gain actionable insights and strategies to navigate the evolving technological landscape with confidence. \nThis is not your typical vendor session — it’s a roadmap for navigating uncharted waters with confidence and clarity. \nKey Takeaways:\n\nLearn the current state of AI and its impact to healthcare IT environments running Oracle\nDiscover proven strategies to help avoid common AI pitfalls\nUnderstand the key points in developing an AI playbook\nBe more prepared to answer the question: What’s our AI strategy?\n\nFeatured Speakers:\n\nSpeaker: Paul Taylor\, Gideon Taylor CEO\, brings decades of experience in enterprise software\, automation\, and business process engineering.\nSpeaker: Andrew Bediz\, Gideon Taylor Managing Director of AI\, widely recognized as the foremost expert in AI within the Oracle Ecosystem.\nModerator: Brad Rutledge\, Gideon Taylor Marketing\, has more than 20 years of experience in leading conversations about advanced technologies for enterprise and government.\n\nWho should attend:\nIdeal for Chief Technical Officers (CTOs)\, Chief Information Officers (CIOs)\, Chief Digital Officers (CDO)\, Chief Innovation Officers (CIOs)\, IT Directors\, Digital Transformation Managers\, ERP Directors\, and Healthcare Technology Strategists who want to understand AI’s impact on healthcare operations and Oracle systems.
URL:https://gideontaylor.fluid22.dev/event/beyond-the-hype-of-ai-in-healthcare-navigating-oracle-ai-and-you/
LOCATION:Online\, United States
CATEGORIES:Online Webinar
ATTACH;FMTTYPE=image/png:https://gideontaylor.fluid22.dev/wp-content/uploads/2025/01/PeopleSoft-Industry-Days-Healthcare-Feb-11.png
END:VEVENT
END:VCALENDAR